BEGIN:VCALENDAR
VERSION:2.0
BEGIN:VEVENT
URL:https://www.networkinaction.com/index.php/events/viewevent/5720-member-monthly-meeting?groupid=174 
DTSTART:20211014T160000
DTEND:20211014T173000
SUMMARY:Member Monthly Meeting
DESCRIPTION:
LOCATION:14576 SW 5th Street Pembroke Pines Florida 33027
END:VEVENT
END:VCALENDAR