BEGIN:VCALENDAR
VERSION:2.0
BEGIN:VEVENT
URL:https://www.networkinaction.com/index.php/events/viewevent/5719-nia-on-zoom?groupid=174 
DTSTART:20210929T160000
DTEND:20210929T170000
SUMMARY:NIA on Zoom
DESCRIPTION:
LOCATION:Zoom
END:VEVENT
END:VCALENDAR