BEGIN:VCALENDAR
VERSION:2.0
BEGIN:VEVENT
URL:https://www.networkinaction.com/index.php/events/viewevent/5714-business-force-september-happy-hour?groupid=140 
DTSTART:20210922T170000
DTEND:20210922T190000
SUMMARY:Business Force September Happy Hour
DESCRIPTION:<p>Come out and join all of the Business Force members at our monthly happy hour!  This is a great time to make new connections and strengthen relationships.
</p>
<p>We always have a good time!  You will want to be there.</p>
LOCATION:TBD
END:VEVENT
END:VCALENDAR