BEGIN:VCALENDAR
VERSION:2.0
BEGIN:VEVENT
URL:https://www.networkinaction.com/index.php/events/viewevent/5711-high-performance-goal-setting-for-q4 
DTSTART:20210924T100000
DTEND:20210924T113000
SUMMARY:High Performance Goal Setting For Q4
DESCRIPTION:<p>Are you smart and successful, but it costs you mental and physical energy? Let’s get your vibrancy back in October so that you can end the year with a bang.</p><br /><p>This is not your typical goal-setting and time management training. Most people do not use much of what they have learned in those workshops anyway.</p><br /><p>I am sure you know what’s important to you, but life gets in the way, and you may find yourself working late hours when others enjoy dinner with family or quality time with friends.</p><br /><p>Imagine increasing your income, impact, and well-being next quarter and achieve results beyond standard norms, consistently, over the long term.</p><br /><p>How much different will the Holidays be for you? What will increased success and well-being mean for you on New Year’s Eve?</p><br /><p>But if you do enjoy burning the midnight oil, just attend the same meetings, let emails continue to drain your energy, and wonder which other distractions and competing interests are your top productivity killers.</p><br /><p>As with all my sessions, this is a done with you workshop. When you leave, you will have the work done and no more planning will be necessary. You will be able to execute a simple strategy by combining it with scientifically proven high performance habits.</p>
LOCATION:Zoom (I have three seats left. First come, first serve. I will share the link after registration)
END:VEVENT
END:VCALENDAR