BEGIN:VCALENDAR
VERSION:2.0
BEGIN:VEVENT
URL:https://www.networkinaction.com/index.php/events/viewevent/5710-launch-n-learn-with-nia-tuesday-september-28th-3-30pm?groupid=133 
DTSTART:20210928T000000
DTEND:20210928T153000
SUMMARY:Launch 'n Learn with NIA - Tuesday, September 28th @ 3:30pm
DESCRIPTION:<p>Hi everyone, I am hosting a Launch 'n Learn on Tuesday, September 28th at 3:30pm. Invite any like-minded individual who wants to grow their business through qualified referrals.</p>
LOCATION:https://bit.ly/LaunchnLearn-Sept28th
END:VEVENT
END:VCALENDAR