BEGIN:VCALENDAR
VERSION:2.0
BEGIN:VEVENT
URL:https://www.networkinaction.com/index.php/events/viewevent/5697-september-monthly-meeting?groupid=154 
DTSTART:20210922T150000
DTEND:20210922T163000
SUMMARY:September Monthly Meeting
DESCRIPTION:
LOCATION:Mass Mutual Office-  2241 Douglas Blvd, Ste 100
END:VEVENT
END:VCALENDAR