BEGIN:VCALENDAR
VERSION:2.0
BEGIN:VEVENT
URL:https://www.networkinaction.com/index.php/events/viewevent/5687-network-with-the-nation?groupid=68 
DTSTART:20210922T153000
DTEND:20210929T170000
SUMMARY:Network With the Nation
DESCRIPTION:
LOCATION:www.zoomwithnia.com
END:VEVENT
END:VCALENDAR