BEGIN:VCALENDAR
VERSION:2.0
BEGIN:VEVENT
URL:https://www.networkinaction.com/index.php/events/viewevent/5686-how-to-recruit-retain-and-develop-top-talent?groupid=66 
DTSTART:20210929T180000
DTEND:20210929T190000
SUMMARY:How To Recruit, Retain and Develop Top Talent.
DESCRIPTION:<p>https://www.eventbrite.com/e/how-do-you-recruit-retain-and-develop-top-talent-tickets-170155931973</p><p><br /></p>
LOCATION:Register via the link.
END:VEVENT
END:VCALENDAR