BEGIN:VCALENDAR
VERSION:2.0
BEGIN:VEVENT
URL:https://www.networkinaction.com/index.php/events/viewevent/5685-network-with-the-nation?groupid=66 
DTSTART:20210922T153000
DTEND:20210929T170000
SUMMARY:Network with the Nation.
DESCRIPTION:
LOCATION:www.zoomwithnai.com
END:VEVENT
END:VCALENDAR