BEGIN:VCALENDAR
VERSION:2.0
BEGIN:VEVENT
URL:https://www.networkinaction.com/index.php/events/viewevent/5683-monthly-meeting-3-00-to-4-30-warehouse-72?groupid=1 
DTSTART:20211014T150000
DTEND:20211014T163000
SUMMARY:Monthly Meeting 3:00 to 4:30  Warehouse 72
DESCRIPTION:Get this on your calendar I promise we will pass a good time! 
LOCATION:Warehouse 72 7620 Katy Freeway Suite 305 
END:VEVENT
END:VCALENDAR