BEGIN:VCALENDAR
VERSION:2.0
BEGIN:VEVENT
URL:https://www.networkinaction.com/index.php/events/viewevent/5665-high-performance-habits-to-help-business-owners-grow-exponentially?groupid=66 
DTSTART:20210930T150000
DTEND:20210930T161500
SUMMARY:High Performance Habits to Help Business Owners Grow Exponentially! 
DESCRIPTION:Monthly NIA Webinar
LOCATION:www.zoomwithnia.com
END:VEVENT
END:VCALENDAR