BEGIN:VCALENDAR
VERSION:2.0
BEGIN:VEVENT
URL:https://www.networkinaction.com/index.php/events/viewevent/5664-monthly-meeting?groupid=66 
DTSTART:20210914T160000
DTEND:20210914T173000
SUMMARY:Monthly Meeting
DESCRIPTION:Opportunity to grow yourself, your business and your relationships.
LOCATION:Zoom.us, Meeting ID 713-678-0468 or 12848 Queensbury Lane (FUSE Workspace)
END:VEVENT
END:VCALENDAR