BEGIN:VCALENDAR
VERSION:2.0
BEGIN:VEVENT
URL:https://www.networkinaction.com/index.php/events/viewevent/5663-monthly-nia-meeting-2nd-wed-of-the-month?groupid=86 
DTSTART:20210908T150000
DTEND:20210908T163000
SUMMARY:Monthly NIA meeting (2nd Wed of the Month)
DESCRIPTION:Stellar Connections Monthly meeting - Come join fellow members and guests for this interactive meeting. We will be discussing the Power of a One to One.
LOCATION:Carrabbas 17007 N Scottsdale Rd, Scottsdale, AZ 85225
END:VEVENT
END:VCALENDAR