BEGIN:VCALENDAR
VERSION:2.0
BEGIN:VEVENT
URL:https://www.networkinaction.com/index.php/events/viewevent/5659-nia-monthly-meeting?groupid=49 
DTSTART:20210909T160000
DTEND:20210909T173000
SUMMARY:NIA - Monthly Meeting
DESCRIPTION:<p>Please join us for our official monthly meeting.</p>
LOCATION:Carrabba's on Tyrone Blvd, St Pete
END:VEVENT
END:VCALENDAR