BEGIN:VCALENDAR
VERSION:2.0
BEGIN:VEVENT
URL:https://www.networkinaction.com/index.php/events/viewevent/5657-nia-westchase-business-force-september-meeting?groupid=77 
DTSTART:20210914T150000
DTEND:20210914T163000
SUMMARY:NIA Westchase Business Force September Meeting
DESCRIPTION:<p>Join our Westchase Business Force group for a fantastic September meeting. We have a dynamic agenda planned and you will want to be there.
</p>
<p>See you there!</p>
LOCATION:Lupe Tortilla, 9313 Katy Freeway
END:VEVENT
END:VCALENDAR