BEGIN:VCALENDAR
VERSION:2.0
BEGIN:VEVENT
URL:https://www.networkinaction.com/index.php/events/viewevent/5656-nia-sugar-land-business-force-september-meeting?groupid=140 
DTSTART:20210915T150000
DTEND:20210915T163000
SUMMARY:NIA Sugar Land Business Force September Meeting
DESCRIPTION:<p>Join our Sugar Land Business Force group for a fantastic September meeting.  We have a dynamic agenda planned and you will want to be there.
</p>
<p>See you there!</p>
LOCATION:Churrascos, 1520 Lake Pointe Pkwy, Ste 500, Sugar Land, TX 77478
END:VEVENT
END:VCALENDAR