BEGIN:VCALENDAR
VERSION:2.0
BEGIN:VEVENT
URL:https://www.networkinaction.com/index.php/events/viewevent/5655-nia-veterans-business-force-september-meeting?groupid=147 
DTSTART:20210909T150000
DTEND:20210909T163000
SUMMARY:NIA Veterans Business Force September Meeting
DESCRIPTION:<p>Join our Veterans Business Force group for a fantastic September meeting.  We have a dynamic agenda planned and you will want to be there.</p>See you on Thursday!
LOCATION:Lupe Tortilla, 9313 Katy Freeway
END:VEVENT
END:VCALENDAR