BEGIN:VCALENDAR
VERSION:2.0
BEGIN:VEVENT
URL:https://www.networkinaction.com/index.php/events/viewevent/5636-monthly-nia-webinar?groupid=68 
DTSTART:20210930T150000
DTEND:20210930T161500
SUMMARY:Monthly NIA Webinar
DESCRIPTION:Speaker - Candy Barone
LOCATION:zoomwithnia.com
END:VEVENT
END:VCALENDAR