BEGIN:VCALENDAR
VERSION:2.0
BEGIN:VEVENT
URL:https://www.networkinaction.com/index.php/events/viewevent/5631-we-are-going-on-a-4-week-journey-3-00-to-4-30?groupid=1 
DTSTART:20210909T150000
DTEND:20210909T163000
SUMMARY:We Are Going on a 4 week journey! 3:00 to 4:30 
DESCRIPTION:<p>                                Time to kick it in gear! </p><p>Two emails from NIA before our meeting with small "Action Items."</p><p>A full on agenda to get us thinking about the future!</p><p>Then save the date Sep. 30th for a rock star virtual coaching session at 3:00 pm</p>Details to follow! 
LOCATION:Warehouse 72 7620 Katy Freeway Suite 305 
END:VEVENT
END:VCALENDAR