BEGIN:VCALENDAR
VERSION:2.0
BEGIN:VEVENT
URL:https://www.networkinaction.com/index.php/events/viewevent/5627-monthly-meeting?groupid=68 
DTSTART:20210909T153000
DTEND:20210909T170000
SUMMARY:Monthly Meeting
DESCRIPTION:Are you ready to grow yourself, your business and your relationships? If so, then get ready for a thought provoking monthly meeting.
LOCATION:zoom.us, Meeting ID: 713-678-0468; 10333 Richmond Ave., Suite 400
END:VEVENT
END:VCALENDAR