BEGIN:VCALENDAR
VERSION:2.0
BEGIN:VEVENT
URL:https://www.networkinaction.com/index.php/events/viewevent/5609-nia-coffee-connection-starbucks?groupid=174 
DTSTART:20210831T160000
DTEND:20210901T173000
SUMMARY:NIA Coffee Connection @ Starbucks 
DESCRIPTION:<p>Hi everyone,</p><p>It has been a long time since we met. Let's meet over coffee and review our technology, our 5 star review reputation management software, our solutions customer management portal and network. This is not the official meeting, rather just a networking session to get to know one another and talk about our business needs and how the group can make money for you through referrals. <br /><br /></p><p>Starbucks @ 2000 North Flamingo Road Pembroke Pines FL 33025</p><p></p>
LOCATION:2000 N Flamingo Road Pembroke Pines Florida 33028
END:VEVENT
END:VCALENDAR