BEGIN:VCALENDAR
VERSION:2.0
BEGIN:VEVENT
URL:https://www.networkinaction.com/index.php/events/viewevent/5608-network-in-action-monthly-meeting?groupid=174 
DTSTART:20210914T160000
DTEND:20210914T173000
SUMMARY:Network in Action Monthly Meeting
DESCRIPTION:Address: 14576 SW 5th Street Pembroke Pines Florida 33027
LOCATION:14576 SW 5th Street Pembroke Pines Florida 33027
END:VEVENT
END:VCALENDAR