BEGIN:VCALENDAR
VERSION:2.0
BEGIN:VEVENT
URL:https://www.networkinaction.com/index.php/events/viewevent/5604-september-nia-social?groupid=139 
DTSTART:20210902T153000
DTEND:20210902T170000
SUMMARY:September NIA Social 
DESCRIPTION:Remember to invite prospective NIA members!<br />
LOCATION:AleCraft Brewery
END:VEVENT
END:VCALENDAR