BEGIN:VCALENDAR
VERSION:2.0
BEGIN:VEVENT
URL:https://www.networkinaction.com/index.php/events/viewevent/5602-august-all-group-happy-hour?groupid=140 
DTSTART:20210831T170000
DTEND:20210831T190000
SUMMARY:August All Group Happy Hour
DESCRIPTION:<p>It's time again for our monthly all-group happy hour!  Come join all of our Business Force groups for snacks and cocktails!
</p>
<p>We will be meeting at Holly and Mike Robideau's house.  Our contractor, Cynthia Cannizzaro has remodeled their kitchen and they want to show off her work.  Several other members of our groups contributed to the success of this project, so we will be celebrating a job well-done!
</p><p>This event is BYOB.  Please bring whatever you would like to drink and a snack to share.  
</p><p>See you there!</p>


LOCATION:1615 Tuscany Place Drive, Sugar Land, TX  77479
END:VEVENT
END:VCALENDAR