BEGIN:VCALENDAR
VERSION:2.0
BEGIN:VEVENT
URL:https://www.networkinaction.com/index.php/events/viewevent/5600-nia-mixer-at-caddy-s-gulfport?groupid=49 
DTSTART:20210826T160000
DTEND:20210826T173000
SUMMARY:NIA - Mixer at Caddy's Gulfport
DESCRIPTION:<p>Join us for good company and networking!</p>
LOCATION:Caddy's Gulfport 
END:VEVENT
END:VCALENDAR