BEGIN:VCALENDAR
VERSION:2.0
BEGIN:VEVENT
URL:https://www.networkinaction.com/index.php/events/viewevent/5579-nia-cy-fair-connectors-october-meeting?groupid=12 
DTSTART:20211019T150000
DTEND:20211019T163000
SUMMARY:NIA Cy-Fair Connectors October Meeting
DESCRIPTION:NIA Cy-Fair Connectors October Meeting
LOCATION:Saltgrass Steak House, 23952 Northwest Freeway, Cypress, TX 77429
END:VEVENT
END:VCALENDAR