BEGIN:VCALENDAR
VERSION:2.0
BEGIN:VEVENT
URL:https://www.networkinaction.com/index.php/events/viewevent/5571-august-lunch-bunch-11-00-to-1-00?groupid=1 
DTSTART:20210819T110000
DTEND:20210819T231500
SUMMARY:August Lunch Bunch 11:00 to 1:00 
DESCRIPTION:<p>Please join us for our August Lunch Bunch at Wharehouse 72! I'm excited to share we will have Catherine Brown, B2B Sales Trainer and Author of How Good Humans Sell as our special guest. 
</p>
<p>In addition to Catherine, there will be great networking and and exceptional food! 
</p><p>Open Networking from 11AM - 11:30 order from 11:30 - 11:45 and enjoy a great lunch! 
</p><p>This is open to NIA B2B. Bellaire, Galleria, Memorial Park, & Women Business Builders + guest!
</p><p>Please RSVP! We had a great turnout in July! </p>



LOCATION:Warehouse 72 7620 Katy Freeway Suite 305 
END:VEVENT
END:VCALENDAR