BEGIN:VCALENDAR
VERSION:2.0
BEGIN:VEVENT
URL:https://www.networkinaction.com/index.php/events/viewevent/5569-happy-hour-at-jack-allen-s-kitchen?groupid=119 
DTSTART:20210820T160000
DTEND:20210820T180000
SUMMARY:Happy Hour at Jack Allen's Kitchen
DESCRIPTION:Come hang out with your fellow NIA members and your +1 at our monthly happy hour!

This month we're having it at Jack Allen's Kitchen on 360.
LOCATION:Jack Allen's Kitchen 3600 N Capital of Texas Hwy Building D, Austin, TX 78746
END:VEVENT
END:VCALENDAR