BEGIN:VCALENDAR
VERSION:2.0
BEGIN:VEVENT
URL:https://www.networkinaction.com/index.php/events/viewevent/5568-social-media-video-day?groupid=185 
DTSTART:20210820T090000
DTEND:20210820T130000
SUMMARY:Social Media Video Day
DESCRIPTION:We'll be shooting social media videos with our members today. Be sure to book your time with Justin. 

We're having it at Gracefully Touched Beauty and Selfie Studio this month, as this location has a ton of great backgrounds to use for your videos.
LOCATION:Gracefully Touched Beauty & Selfie Studio 900 Round Rock Ave #309, Round Rock, TX 78681
END:VEVENT
END:VCALENDAR