BEGIN:VCALENDAR
VERSION:2.0
BEGIN:VEVENT
URL:https://www.networkinaction.com/index.php/events/viewevent/5541-launch-n-learn-with-nia-tuesday-august-31st-3-30pm?groupid=133 
DTSTART:20210831T000000
DTEND:20210831T001500
SUMMARY:Launch 'n Learn with NIA - Tuesday, August 31st @ 3:30pm
DESCRIPTION:<p>Hi Malek,
</p>
<p>On Tuesday, August 31st at 3:30pm, please join me for this Zoom meeting as I introduce Network in Action to other like-minded individuals who want to grow their business through referrals.  Please invite any business owner, decision maker or professional that you know, like and trust to be a part of this group.
</p><p>Here is the link to join in:  https://bit.ly/LaunchnLearn-August31
</p><p>Please share it with others.
</p><p>Looking forward to seeing you there.
</p><p>Deeawn :)</p>




LOCATION:https://bit.ly/LaunchnLearn-August31
END:VEVENT
END:VCALENDAR