BEGIN:VCALENDAR
VERSION:2.0
BEGIN:VEVENT
URL:https://www.networkinaction.com/index.php/events/viewevent/5529-nationwide-realtor-networking-8-30-pst-10-30-cst-11-30-est?groupid=112 
DTSTART:20210908T103000
DTEND:20210908T113000
SUMMARY:Nationwide Realtor Networking  8:30 pst 10:30 cst, 11:30 est
DESCRIPTION:You never know when a client needs a great referral in a another city! Come meet 15 new members this month!
LOCATION:www.zoomwithnia.com
END:VEVENT
END:VCALENDAR