BEGIN:VCALENDAR
VERSION:2.0
BEGIN:VEVENT
URL:https://www.networkinaction.com/index.php/events/viewevent/5528-monthly-meeting?groupid=68 
DTSTART:20210812T153000
DTEND:20210812T170000
SUMMARY:Monthly meeting
DESCRIPTION:
LOCATION:Zoom.us, Meeting ID 713-678-0468 or Fuse Workspace, 12848 Queensbury Lane, Suite 208
END:VEVENT
END:VCALENDAR