BEGIN:VCALENDAR
VERSION:2.0
BEGIN:VEVENT
URL:https://www.networkinaction.com/index.php/events/viewevent/5506-august-monthly-meeting?groupid=154 
DTSTART:20210825T150000
DTEND:20210825T163000
SUMMARY:August Monthly Meeting
DESCRIPTION:
LOCATION:Sienna Restaurant- 1480 Eureka Rd
END:VEVENT
END:VCALENDAR