BEGIN:VCALENDAR
VERSION:2.0
BEGIN:VEVENT
URL:https://www.networkinaction.com/index.php/events/viewevent/5494-nia-august-lunch-social?groupid=53 
DTSTART:20210827T113000
DTEND:20210827T130000
SUMMARY:NIA August Lunch Social
DESCRIPTION:NIA members from Austin, Georgetown and Round Rock are invited to this lunch social.  Come cool off from the August heat and enjoy some amazing food while we connect with other NIA members.  
LOCATION:Magiano's Little Italy, 10910 Domain Drive., Austin
END:VEVENT
END:VCALENDAR