BEGIN:VCALENDAR
VERSION:2.0
BEGIN:VEVENT
URL:https://www.networkinaction.com/index.php/events/viewevent/5480-network-in-action-crowd-coach-launch-learn 
DTSTART:20210923T170000
DTEND:20210923T183000
SUMMARY:Network In Action - Crowd Coach Launch & Learn
DESCRIPTION:<p><strong>Come grow with the top business owners, decision-makers, and professionals in the Keller-Alliance Community!</strong><br /></p><ul><li>Have you tried weekly networking in the past?</li><li>Were the events ran by volunteers and tended to focus on the guests?
</li><li>Was there little to no technology to help you grow your company?
</li><li>Were most of the members looking to sell you something?</li></ul><br /><strong>If you can relate to any of the above statements, there's a good chance that you have fallen victim to the # 1 cause of people dropping out of networking groups.</strong><br /><ul><li>If you would you prefer a monthly meeting over weekly<br /></li><li>Believe that a Certified Leader & Coach is better than a volunteer
</li><li>Would like to have time to actually network while at a meeting
</li><li>Value your time and recognize the power in technology
</li><li>Choose to network with busines owners, decision-makers & professionals
</li><li>See value in professionals offering complimentary coaching sessions.
</li></ul><p></p><p><strong>We strongly encourage you to RSVP for this Inaugural "Launch & Learn!" Come and see how "Crowd Coach" is changing the way business owners network & grow their business!</strong></p>

LOCATION:2601 Presidio Vista Drive Fort Worth, TX 76177
END:VEVENT
END:VCALENDAR