BEGIN:VCALENDAR
VERSION:2.0
BEGIN:VEVENT
URL:https://www.networkinaction.com/index.php/events/viewevent/5479-august-meeting?groupid=147 
DTSTART:20210812T150000
DTEND:20210812T163000
SUMMARY:August Meeting
DESCRIPTION:<p>Come join the Veterans Business Force members for our monthly meeting.  We have a very special meeting planned that will help you be even more successful in your networking and your business.
</p>
<p>See you there!</p>
LOCATION:Lupe Tortilla, 9313 Katy Freeway
END:VEVENT
END:VCALENDAR