BEGIN:VCALENDAR
VERSION:2.0
BEGIN:VEVENT
URL:https://www.networkinaction.com/index.php/events/viewevent/5478-august-meeting?groupid=140 
DTSTART:20210811T150000
DTEND:20210811T163000
SUMMARY:August Meeting
DESCRIPTION:<p>Come join the Sugar Land Business Force members for our monthly meeting.  We have a very special meeting planned that will help you be even more successful in your business.
</p>
<p>See you there!</p>
LOCATION:Churrascos, 1520 Lake Pointe Pkwy, Ste 500, Sugar Land, TX 77478
END:VEVENT
END:VCALENDAR