BEGIN:VCALENDAR
VERSION:2.0
BEGIN:VEVENT
URL:https://www.networkinaction.com/index.php/events/viewevent/5477-august-meeting?groupid=77 
DTSTART:20210810T150000
DTEND:20210810T163000
SUMMARY:August Meeting
DESCRIPTION:<p>Come join the Westchase Business Force members for our monthly meeting.  We have a very special meeting planned that will help you be even more successful in your business.</p>See you there!
LOCATION:Lupe Tortilla, 9313 Katy Freeway
END:VEVENT
END:VCALENDAR