BEGIN:VCALENDAR
VERSION:2.0
BEGIN:VEVENT
URL:https://www.networkinaction.com/index.php/events/viewevent/5467-next-level-networking?groupid=66 
DTSTART:20210812T173000
DTEND:20210812T190000
SUMMARY:Next Level Networking
DESCRIPTION:<p>This is a great opportunity for business owners and leaders  to get out of the office and meet others.</p><br /><p>https://www.eventbrite.com/e/next-level-networking-tickets-165701667147</p><p><br /></p>
LOCATION:Hybrid - Face to Face and online
END:VEVENT
END:VCALENDAR