BEGIN:VCALENDAR
VERSION:2.0
BEGIN:VEVENT
URL:https://www.networkinaction.com/index.php/events/viewevent/5466-monthly-meeting?groupid=66 
DTSTART:20210810T160000
DTEND:20210810T173000
SUMMARY:Monthly Meeting
DESCRIPTION:Monthly meeting next Tuesday with face to face and online opportunities.
LOCATION:Fuse Workspace, 12848 Queensbury Lane, 77024; Zoom.us, Meeting ID: 713-678-0468
END:VEVENT
END:VCALENDAR