BEGIN:VCALENDAR
VERSION:2.0
BEGIN:VEVENT
URL:https://www.networkinaction.com/index.php/events/viewevent/5465-2nd-networking-meeting?groupid=174 
DTSTART:20210810T160000
DTEND:20210810T173000
SUMMARY:2nd Networking Meeting
DESCRIPTION:
LOCATION:14576 SW 5th Street Pembroke Pines Florida 33027
END:VEVENT
END:VCALENDAR