BEGIN:VCALENDAR
VERSION:2.0
BEGIN:VEVENT
URL:https://www.networkinaction.com/index.php/events/viewevent/5464-heights-monthly-meeting-3-00-to-4-30?groupid=1 
DTSTART:20210812T150000
DTEND:20210812T163000
SUMMARY:Heights Monthly Meeting 3:00 to 4:30 
DESCRIPTION:A bag of tricks in store don't you dare miss it! 
LOCATION:Warehouse 72 7620 Katy Freeway Suite 305 
END:VEVENT
END:VCALENDAR