BEGIN:VCALENDAR
VERSION:2.0
BEGIN:VEVENT
URL:https://www.networkinaction.com/index.php/events/viewevent/5463-launch-n-learn-with-nia-august-10th-3-30pm?groupid=136 
DTSTART:20210802T153000
DTEND:20210802T161500
SUMMARY:Launch 'n Learn with NIA - August 10th @ 3:30pm
DESCRIPTION:<p>Any Decision Maker, Business Owner or Professional who wants to learn a more effective way to scale their business and gain more clients are invited to attend this informational meeting via Zoom. </p><p>Click here to join:  https://bit.ly/August10-Launch-in-Learn</p>
LOCATION:via Zoom:  https://bit.ly/August10-Launch-in-Learn
END:VEVENT
END:VCALENDAR