BEGIN:VCALENDAR
VERSION:2.0
BEGIN:VEVENT
URL:https://www.networkinaction.com/index.php/events/viewevent/5462-nia-zoom-austin-networking?groupid=46 
DTSTART:20210803T120000
DTEND:20210803T130000
SUMMARY:NIA Zoom Austin Networking
DESCRIPTION:<p>Sorry for the late notice, but would love to have you join in a your fellow Austin area NIA members for some networking.  Arrive on time because we will hit the ground running!  I’m taking over the administration of this group so it will be our typical Zoom meeting link.  
</p>
<p>Hope to see you tomorrow!
</p>
Join Zoom Meeting <p>https://zoom.us/j/9460662409?pwd=dkVxRFR1VUw5Z3M4akNMY2ZWcWJzZz09
</p>
Meeting ID: 946 066 2409 <p>Passcode: NIACBell
</p><br />
LOCATION:Zoom Meeting
END:VEVENT
END:VCALENDAR