BEGIN:VCALENDAR
VERSION:2.0
BEGIN:VEVENT
URL:https://www.networkinaction.com/index.php/events/viewevent/5431-austin-wide-speed-networking?groupid=119 
DTSTART:20210803T114500
DTEND:20210803T124500
SUMMARY:Austin-wide speed networking
DESCRIPTION:We're having an Austin-wide speed networking event including Christina's groups Tuesday the 3rd at 11:45.

Here's the link - zoom.us/j/9460662409

Meeting ID: 946 066 2409
Passcode: NIACBell
LOCATION:Zoom
END:VEVENT
END:VCALENDAR