BEGIN:VCALENDAR
VERSION:2.0
BEGIN:VEVENT
URL:https://www.networkinaction.com/index.php/events/viewevent/5429-nia-cy-fair-connectors-september-meeting?groupid=12 
DTSTART:20210921T150000
DTEND:20210921T163000
SUMMARY:NIA Cy-Fair Connectors September Meeting
DESCRIPTION:NIA Cy-Fair Connectors September Meeting
LOCATION:Saltgrass Steak House, 23952 Northwest Freeway, Cypress, TX 77429
END:VEVENT
END:VCALENDAR