BEGIN:VCALENDAR
VERSION:2.0
BEGIN:VEVENT
URL:https://www.networkinaction.com/index.php/events/viewevent/5424-july-happy-hour?groupid=77 
DTSTART:20210729T170000
DTEND:20210729T190000
SUMMARY:July Happy Hour
DESCRIPTION:Come out and join all of the NIA Business Force groups for our July happy hour.  This is a great way to expand your network and build strong relationships in our groups!  The more connected we become, the more business we all refer to each other.  Looking forward to seeing you there.
LOCATION:BJ's Restaurant & Brewhouse, 2231 Highway 6, Sugar Land, TX 77479
END:VEVENT
END:VCALENDAR