BEGIN:VCALENDAR
VERSION:2.0
BEGIN:VEVENT
URL:https://www.networkinaction.com/index.php/events/viewevent/5421-august-11th-monthly-meeting?groupid=14 
DTSTART:20210811T153000
DTEND:20210811T170000
SUMMARY:August 11th Monthly Meeting 
DESCRIPTION:<p>Micah Stalarow with Buffalo Specialties will be hosting our August 11th Meeting. We will start at 3:30 and end at 5:00. Fun and interactive networking with a tour. Drinks and bites included.  Guests are welcome. </p><p>We may have a raffle and some surprises too!</p><br /><p>Please RSVP! </p><br />
LOCATION:10502 Fallstone Road
END:VEVENT
END:VCALENDAR