BEGIN:VCALENDAR
VERSION:2.0
BEGIN:VEVENT
URL:https://www.networkinaction.com/index.php/events/viewevent/5420-nia-temecula-valley-launch-learn 
DTSTART:20210804T170000
DTEND:20210804T190000
SUMMARY:NIA Temecula Valley Launch & Learn
DESCRIPTION:
LOCATION:The Burgundy Club - 41911 5th St Suite 100, Temecula, CA 92590
END:VEVENT
END:VCALENDAR