BEGIN:VCALENDAR
VERSION:2.0
BEGIN:VEVENT
URL:https://www.networkinaction.com/index.php/events/viewevent/5419-linkedin-101?groupid=66 
DTSTART:20210729T180000
DTEND:20210729T190000
SUMMARY:LinkedIn 101. 
DESCRIPTION:<p>Does the thought of posting on LinkedIn overwhelm you?  Do want to understand how to use LinkedIn as the tool it was created to be?</p><p>If you answered yes to the initial questions and then had a flood of additional questions enter your mind...then this workshop is for you.</p><p>We will discuss the following:</p><p>Business vs. Personal profile</p><p>#s and  tagging people</p><p>Value Adds</p><p>Getting and Keeping Engagement</p>Register via the link:<br /><p>https://www.eventbrite.com/x/linkedin-101-tickets-163581698263</p>
LOCATION:Online
END:VEVENT
END:VCALENDAR